BEGIN:VCALENDAR
VERSION:2.0
PRODID:-//Continental Vistas Property Owners Association - ECPv6.15.20//NONSGML v1.0//EN
CALSCALE:GREGORIAN
METHOD:PUBLISH
X-ORIGINAL-URL:https://continentalvistas.org
X-WR-CALDESC:Events for Continental Vistas Property Owners Association
REFRESH-INTERVAL;VALUE=DURATION:PT1H
X-Robots-Tag:noindex
X-PUBLISHED-TTL:PT1H
BEGIN:VTIMEZONE
TZID:UTC
BEGIN:STANDARD
TZOFFSETFROM:+0000
TZOFFSETTO:+0000
TZNAME:UTC
DTSTART:20250101T000000
END:STANDARD
END:VTIMEZONE
BEGIN:VEVENT
DTSTART;TZID=UTC:20260410T070000
DTEND;TZID=UTC:20260410T170000
DTSTAMP:20260424T152236
CREATED:20260310T230642Z
LAST-MODIFIED:20260310T230907Z
UID:1296-1775804400-1775840400@continentalvistas.org
SUMMARY:Titan Trash Bulk Pickup
DESCRIPTION:https://app.box.com/s/j0nrn1kkjal3xv6n14mhktpnjz8l5cao
URL:https://continentalvistas.org/event/titan-trash-bulk-pick-up/
END:VEVENT
BEGIN:VEVENT
DTSTART;TZID=UTC:20260409T133000
DTEND;TZID=UTC:20260409T150000
DTSTAMP:20260424T152236
CREATED:20251022T232008Z
LAST-MODIFIED:20251022T232009Z
UID:1209-1775741400-1775746800@continentalvistas.org
SUMMARY:CVPOA Board Meeting
DESCRIPTION:GVR Pool Meeting Room in Continental Vistas – 906 W Camino Guarina
URL:https://continentalvistas.org/event/cvpoa-board-meeting-5/
END:VEVENT
BEGIN:VEVENT
DTSTART;TZID=UTC:20260327T170000
DTEND;TZID=UTC:20260327T200000
DTSTAMP:20260424T152236
CREATED:20260227T235930Z
LAST-MODIFIED:20260227T235931Z
UID:1283-1774630800-1774641600@continentalvistas.org
SUMMARY:Adios Party
DESCRIPTION:Join friends and neighbors to say ‘Adios’ to those who reside in Green Valley on a seasonal basis. \n\n\n\nLas Campanas\, 565 W Belltower Dr.
URL:https://continentalvistas.org/event/adios-party/
END:VEVENT
BEGIN:VEVENT
DTSTART;TZID=UTC:20260316T160000
DTEND;TZID=UTC:20260316T180000
DTSTAMP:20260424T152236
CREATED:20251226T204008Z
LAST-MODIFIED:20251226T204053Z
UID:1253-1773676800-1773684000@continentalvistas.org
SUMMARY:Continental Vistas Trivia
DESCRIPTION:Social event at the Continental Vistas Pool Recreation Room – Bring your GVR pass to gain entry.
URL:https://continentalvistas.org/event/continental-vistas-trivia-2/
END:VEVENT
BEGIN:VEVENT
DTSTART;TZID=UTC:20260312T133000
DTEND;TZID=UTC:20260312T150000
DTSTAMP:20260424T152236
CREATED:20251022T231813Z
LAST-MODIFIED:20251022T231813Z
UID:1207-1773322200-1773327600@continentalvistas.org
SUMMARY:CVPOA Board Meeting
DESCRIPTION:GVR Pool Meeting Room in Continental Vistas – 906 W Camino Guarina
URL:https://continentalvistas.org/event/cvpoa-board-meeting-4/
END:VEVENT
BEGIN:VEVENT
DTSTART;TZID=UTC:20260226T150000
DTEND;TZID=UTC:20260226T235959
DTSTAMP:20260424T152236
CREATED:20260116T194059Z
LAST-MODIFIED:20260205T215246Z
UID:1264-1772118000-1772150399@continentalvistas.org
SUMMARY:The Belle of Tombstone
DESCRIPTION:Gaslight Theater matinee. \n\n\n\nReservations required by Tuesday\, February 10th. Check the green flyer for further details.
URL:https://continentalvistas.org/event/1264/
END:VEVENT
BEGIN:VEVENT
DTSTART;TZID=UTC:20260212T140000
DTEND;TZID=UTC:20260212T160000
DTSTAMP:20260424T152236
CREATED:20251022T231513Z
LAST-MODIFIED:20251022T231618Z
UID:1205-1770904800-1770912000@continentalvistas.org
SUMMARY:CVPOA Annual Meeting
DESCRIPTION:GVR East Center – 7 S Abrego Drive
URL:https://continentalvistas.org/event/cvpoa-annual-meeting/
END:VEVENT
BEGIN:VEVENT
DTSTART;TZID=UTC:20260211T160000
DTEND;TZID=UTC:20260211T180000
DTSTAMP:20260424T152236
CREATED:20251226T203725Z
LAST-MODIFIED:20251226T203844Z
UID:1250-1770825600-1770832800@continentalvistas.org
SUMMARY:Continental Vistas Social
DESCRIPTION:Socialize with other Continental Vistas residents at the Continental Vistas Pool Recreation Room – Bring your GVR pass to gain entry.
URL:https://continentalvistas.org/event/continental-vistas-social/
END:VEVENT
END:VCALENDAR